BEGIN:VCALENDAR
VERSION:2.0
PRODID:-//www.nebraskacasa.org//NONSGML kigkonsult.se iCalcreator 2.30.10//
CALSCALE:GREGORIAN
METHOD:PUBLISH
UID:f8209933-4150-4eec-9bfa-5d2c3ee8b55b
X-WR-CALDESC:
X-WR-RELCALID:845d5c5523a9fa44e249070fe86615a9
X-WR-TIMEZONE:America/Chicago
BEGIN:VTIMEZONE
TZID:America/Chicago
BEGIN:STANDARD
TZNAME:CST
DTSTART:20141102T020000
TZOFFSETFROM:-0500
TZOFFSETTO:-0600
RDATE:20151101T020000
END:STANDARD
BEGIN:DAYLIGHT
TZNAME:CDT
DTSTART:20140309T020000
TZOFFSETFROM:-0600
TZOFFSETTO:-0500
RDATE:20150308T020000
RDATE:20160313T020000
END:DAYLIGHT
END:VTIMEZONE
BEGIN:VEVENT
UID:e5210e8c-1bd3-49de-b20d-2d353c7242c9
DTSTAMP:20260424T183052Z
DESCRIPTION:
DTSTART;TZID=America/Chicago:20141209T173000
DTEND;TZID=America/Chicago:20141209T193000
LOCATION:Grand Island Hy-Vee
SUMMARY:Heartland CASA's Volunteer Christmas Party
END:VEVENT
END:VCALENDAR
