BEGIN:VCALENDAR
VERSION:2.0
PRODID:-//www.nebraskacasa.org//NONSGML kigkonsult.se iCalcreator 2.30.10//
CALSCALE:GREGORIAN
METHOD:PUBLISH
UID:59309212-d83c-40c1-bc8f-d4fa742774ec
X-WR-CALDESC:11 am to close at Applebee's in North Platte - 10% of your bil
 l donated to CASA
X-WR-RELCALID:e17ba3e606ec02b53d9c6feb0f08a4a4
X-WR-TIMEZONE:America/Chicago
BEGIN:VTIMEZONE
TZID:America/Chicago
BEGIN:STANDARD
TZNAME:CST
DTSTART:20141102T020000
TZOFFSETFROM:-0500
TZOFFSETTO:-0600
RDATE:20151101T020000
END:STANDARD
BEGIN:DAYLIGHT
TZNAME:CDT
DTSTART:20140309T020000
TZOFFSETFROM:-0600
TZOFFSETTO:-0500
RDATE:20150308T020000
RDATE:20160313T020000
END:DAYLIGHT
END:VTIMEZONE
BEGIN:VEVENT
UID:43bc365b-eecb-4edd-9353-4ff33e45abb6
DTSTAMP:20260424T182515Z
DESCRIPTION:11 am to close at Applebee's in North Platte - 10% of your bill
  donated to CASA
DTSTART;TZID=America/Chicago:20141216T000000
DTEND;TZID=America/Chicago:20141216T235900
LOCATION:North Platte\, NE
SUMMARY:Dining to Donate
END:VEVENT
END:VCALENDAR
