BEGIN:VCALENDAR
VERSION:2.0
PRODID:-//www.nebraskacasa.org//NONSGML kigkonsult.se iCalcreator 2.30.10//
CALSCALE:GREGORIAN
METHOD:PUBLISH
UID:97b71d72-7003-43d4-898d-8d9670e4e928
X-WR-CALDESC:
X-WR-RELCALID:e354baeb5069e33a46d00efe9e01b5db
X-WR-TIMEZONE:America/Chicago
BEGIN:VTIMEZONE
TZID:America/Chicago
BEGIN:STANDARD
TZNAME:CST
DTSTART:20141102T020000
TZOFFSETFROM:-0500
TZOFFSETTO:-0600
RDATE:20151101T020000
END:STANDARD
BEGIN:DAYLIGHT
TZNAME:CDT
DTSTART:20140309T020000
TZOFFSETFROM:-0600
TZOFFSETTO:-0500
RDATE:20150308T020000
RDATE:20160313T020000
END:DAYLIGHT
END:VTIMEZONE
BEGIN:VEVENT
UID:7e25ba3d-639a-49a1-906e-86ec67bec241
DTSTAMP:20260424T165034Z
DESCRIPTION:
DTSTART;TZID=America/Chicago:20150115T180000
DTEND;TZID=America/Chicago:20150116T080000
LOCATION:CASA for Lancaster County
SUMMARY:Nebraska CASA Board Meeting
END:VEVENT
END:VCALENDAR
