BEGIN:VCALENDAR
VERSION:2.0
PRODID:-//www.nebraskacasa.org//NONSGML kigkonsult.se iCalcreator 2.30.10//
CALSCALE:GREGORIAN
METHOD:PUBLISH
UID:4ae36c38-e579-4b0c-aabb-e38b256aa66d
X-WR-CALDESC:Free In-Service Training\nThe Fitness Center\n1600 WEST 13m ST
 REET\nLEXINGTON\, NE\n8:30 a.m.-2:30 p.m.\n6- CEU's\n
X-WR-RELCALID:05c57fdfc7e4dc888d691d13181cb45c
X-WR-TIMEZONE:America/Chicago
BEGIN:VTIMEZONE
TZID:America/Chicago
BEGIN:STANDARD
TZNAME:CST
DTSTART:20141102T020000
TZOFFSETFROM:-0500
TZOFFSETTO:-0600
RDATE:20151101T020000
END:STANDARD
BEGIN:DAYLIGHT
TZNAME:CDT
DTSTART:20140309T020000
TZOFFSETFROM:-0600
TZOFFSETTO:-0500
RDATE:20150308T020000
RDATE:20160313T020000
END:DAYLIGHT
END:VTIMEZONE
BEGIN:VEVENT
UID:610057f9-53c2-4296-9283-fdd60397d3ec
DTSTAMP:20260424T165752Z
DESCRIPTION:Free In-Service Training\nThe Fitness Center\n1600 WEST 13m STR
 EET\nLEXINGTON\, NE\n8:30 a.m.-2:30 p.m.\n6- CEU's\n
DTSTART;TZID=America/Chicago:20150117T083000
DTEND;TZID=America/Chicago:20150117T143000
LOCATION:Lexington\, NE
SUMMARY:Dawson/Gosper In Service Training
END:VEVENT
END:VCALENDAR
