BEGIN:VCALENDAR
VERSION:2.0
PRODID:-//www.nebraskacasa.org//NONSGML kigkonsult.se iCalcreator 2.30.10//
CALSCALE:GREGORIAN
METHOD:PUBLISH
UID:0cf0d8d7-c032-498c-81c7-111ae21ad349
X-WR-CALDESC:
X-WR-RELCALID:1bc7fce1ea67ba299de3a31c4a3aa243
X-WR-TIMEZONE:America/Chicago
BEGIN:VTIMEZONE
TZID:America/Chicago
BEGIN:STANDARD
TZNAME:CST
DTSTART:20141102T020000
TZOFFSETFROM:-0500
TZOFFSETTO:-0600
RDATE:20151101T020000
END:STANDARD
BEGIN:DAYLIGHT
TZNAME:CDT
DTSTART:20140309T020000
TZOFFSETFROM:-0600
TZOFFSETTO:-0500
RDATE:20150308T020000
RDATE:20160313T020000
END:DAYLIGHT
END:VTIMEZONE
BEGIN:VEVENT
UID:aa7f71d8-a8ec-4260-803f-f4c23e3b74bd
DTSTAMP:20260424T165422Z
DESCRIPTION:
DTSTART;TZID=America/Chicago:20150117T093000
DTEND;TZID=America/Chicago:20150117T150000
LOCATION:Seward Memorial Library 233 S. 5th Street Seward\, Nebraska
SUMMARY:Southeast Nebraska CASA Annual Conference
END:VEVENT
END:VCALENDAR
