BEGIN:VCALENDAR
VERSION:2.0
PRODID:-//www.nebraskacasa.org//NONSGML kigkonsult.se iCalcreator 2.30.10//
CALSCALE:GREGORIAN
METHOD:PUBLISH
UID:9c009c9c-8716-4488-9466-a5c6845a4eec
X-WR-CALDESC:Lancaster County CASA In-Service Training
X-WR-RELCALID:a87995f3168a7ae8315c8fd78eb66234
X-WR-TIMEZONE:America/Chicago
BEGIN:VTIMEZONE
TZID:America/Chicago
BEGIN:STANDARD
TZNAME:CST
DTSTART:20141102T020000
TZOFFSETFROM:-0500
TZOFFSETTO:-0600
RDATE:20151101T020000
END:STANDARD
BEGIN:DAYLIGHT
TZNAME:CDT
DTSTART:20140309T020000
TZOFFSETFROM:-0600
TZOFFSETTO:-0500
RDATE:20150308T020000
RDATE:20160313T020000
END:DAYLIGHT
END:VTIMEZONE
BEGIN:VEVENT
UID:553485a1-4caf-415d-a9fb-16a75ade3b9a
DTSTAMP:20260424T170210Z
DESCRIPTION:Lancaster County CASA In-Service Training
DTSTART;TZID=America/Chicago:20150128T110000
DTEND;TZID=America/Chicago:20150128T120000
LOCATION:TBD
SUMMARY:Lancaster County CASA In-Service Training
END:VEVENT
END:VCALENDAR
