BEGIN:VCALENDAR
VERSION:2.0
PRODID:-//www.nebraskacasa.org//NONSGML kigkonsult.se iCalcreator 2.30.10//
CALSCALE:GREGORIAN
METHOD:PUBLISH
UID:00a36d36-ca42-4194-a018-05ab0b599be0
X-WR-CALDESC:Join CASA of South Central Nebraska and Heartland CASA \n\nAs 
 the Nebraska Danger take on the Wichita Falls Night Hawks\n\nTickets are $
 10 through either CASA office with a portion of the proceeds going to the 
 CASA programs.\n\nAnd while at the game\, Great Clips will be giving hairc
 uts for a $3 donation.  Or you can take your ticket to the Grand Island Gr
 eat Clips location for an $8.99 haircut.  \n\nAll donations will go to the
  CASA programs. \n \nFor more information or to purchase tickets contact:
 \n\nHeartland CASA :(308) 385-5125\n
X-WR-RELCALID:43bb29516cb8300a3cced46588438148
X-WR-TIMEZONE:America/Chicago
BEGIN:VTIMEZONE
TZID:America/Chicago
BEGIN:STANDARD
TZNAME:CST
DTSTART:20141102T020000
TZOFFSETFROM:-0500
TZOFFSETTO:-0600
RDATE:20151101T020000
END:STANDARD
BEGIN:DAYLIGHT
TZNAME:CDT
DTSTART:20140309T020000
TZOFFSETFROM:-0600
TZOFFSETTO:-0500
RDATE:20150308T020000
RDATE:20160313T020000
END:DAYLIGHT
END:VTIMEZONE
BEGIN:VEVENT
UID:b170a9fa-481c-472e-816a-9891bf90fb18
DTSTAMP:20260424T140715Z
DESCRIPTION:Join CASA of South Central Nebraska and Heartland CASA \n\nAs t
 he Nebraska Danger take on the Wichita Falls Night Hawks\n\nTickets are $1
 0 through either CASA office with a portion of the proceeds going to the C
 ASA programs.\n\nAnd while at the game\, Great Clips will be giving haircu
 ts for a $3 donation.  Or you can take your ticket to the Grand Island Gre
 at Clips location for an $8.99 haircut.  \n\nAll donations will go to the 
 CASA programs. \n \nFor more information or to purchase tickets contact:\n
 \nHeartland CASA :(308) 385-5125\n
DTSTART;TZID=America/Chicago:20150307T190000
DTEND;TZID=America/Chicago:20150307T220000
LOCATION:Heartland Event Center
SUMMARY:CASA Night with The Danger
END:VEVENT
END:VCALENDAR
