BEGIN:VCALENDAR
VERSION:2.0
PRODID:-//www.nebraskacasa.org//NONSGML kigkonsult.se iCalcreator 2.30.10//
CALSCALE:GREGORIAN
METHOD:PUBLISH
UID:deb67aa2-0258-4075-a4ea-200b1e7761ad
X-WR-CALDESC:CASAblanca Gala
X-WR-RELCALID:32f4fc60f103859e5c78d8b7e7322f44
X-WR-TIMEZONE:America/Chicago
BEGIN:VTIMEZONE
TZID:America/Chicago
BEGIN:STANDARD
TZNAME:CST
DTSTART:20141102T020000
TZOFFSETFROM:-0500
TZOFFSETTO:-0600
RDATE:20151101T020000
END:STANDARD
BEGIN:DAYLIGHT
TZNAME:CDT
DTSTART:20150308T020000
TZOFFSETFROM:-0600
TZOFFSETTO:-0500
RDATE:20160313T020000
END:DAYLIGHT
END:VTIMEZONE
BEGIN:VEVENT
UID:88634b48-914b-4c71-b4e0-7f42958d08a0
DTSTAMP:20260424T140429Z
DESCRIPTION:CASAblanca Gala
DTSTART;TZID=America/Chicago:20150328T180000
DTEND;TZID=America/Chicago:20150328T220000
LOCATION:Scott Center Omaha Nebraska
SUMMARY:CASAblanca GALA
END:VEVENT
END:VCALENDAR
