BEGIN:VCALENDAR
VERSION:2.0
PRODID:-//www.nebraskacasa.org//NONSGML kigkonsult.se iCalcreator 2.30.10//
CALSCALE:GREGORIAN
METHOD:PUBLISH
UID:2acf23f4-a66e-468f-b6ed-446aaeb03c5f
X-WR-CALDESC:
X-WR-RELCALID:f527d61175a11a81e2dbdc9448158cc3
X-WR-TIMEZONE:America/Chicago
BEGIN:VTIMEZONE
TZID:America/Chicago
BEGIN:STANDARD
TZNAME:CST
DTSTART:20141102T020000
TZOFFSETFROM:-0500
TZOFFSETTO:-0600
RDATE:20151101T020000
END:STANDARD
BEGIN:DAYLIGHT
TZNAME:CDT
DTSTART:20150308T020000
TZOFFSETFROM:-0600
TZOFFSETTO:-0500
RDATE:20160313T020000
END:DAYLIGHT
END:VTIMEZONE
BEGIN:VEVENT
UID:40aba055-7946-4368-bb9a-e2f336392137
DTSTAMP:20260424T124346Z
DESCRIPTION:
DTSTART;TZID=America/Chicago:20150416T180000
DTEND;TZID=America/Chicago:20150416T200000
LOCATION:CASA for Lancaster County
SUMMARY:Nebraska CASA Board Meeting
END:VEVENT
END:VCALENDAR
