BEGIN:VCALENDAR
VERSION:2.0
PRODID:-//www.nebraskacasa.org//NONSGML kigkonsult.se iCalcreator 2.30.10//
CALSCALE:GREGORIAN
METHOD:PUBLISH
UID:32074eae-f0d5-40d1-ab42-9eaa5cef573d
X-WR-CALDESC:Join us for a day of motivation\, education and celebration fo
 r volunteers who serve abused and neglected youth in Nebraska!  Hear Noah 
 benShea\, a scholar\, International Best-Selling author and Director of th
 e Justice Project to share his keen insights on CASA’s work!  You will rec
 eive a copy of his book\, “ The Journey to Greatness\, and How to Get Ther
 e.”
X-WR-RELCALID:c8527fb5a4bdf2d21ca0e3c024bb6d5c
X-WR-TIMEZONE:America/Chicago
BEGIN:VTIMEZONE
TZID:America/Chicago
BEGIN:STANDARD
TZNAME:CST
DTSTART:20141102T020000
TZOFFSETFROM:-0500
TZOFFSETTO:-0600
RDATE:20151101T020000
END:STANDARD
BEGIN:DAYLIGHT
TZNAME:CDT
DTSTART:20150308T020000
TZOFFSETFROM:-0600
TZOFFSETTO:-0500
RDATE:20160313T020000
END:DAYLIGHT
END:VTIMEZONE
BEGIN:VEVENT
UID:ed6f4883-478f-4199-944c-7d68cc2efed2
DTSTAMP:20260424T125042Z
DESCRIPTION:Join us for a day of motivation\, education and celebration for
  volunteers who serve abused and neglected youth in Nebraska!  Hear Noah b
 enShea\, a scholar\, International Best-Selling author and Director of the
  Justice Project to share his keen insights on CASA’s work!  You will rece
 ive a copy of his book\, “ The Journey to Greatness\, and How to Get There
 .”
DTSTART;TZID=America/Chicago:20150418T081500
DTEND;TZID=America/Chicago:20150418T161500
LOCATION:Embassy Suites\, 1040 P Street\, Lincoln
SUMMARY:Nebraska CASA Statewide Conference
END:VEVENT
END:VCALENDAR
