BEGIN:VCALENDAR
VERSION:2.0
PRODID:-//www.nebraskacasa.org//NONSGML kigkonsult.se iCalcreator 2.30.10//
CALSCALE:GREGORIAN
METHOD:PUBLISH
UID:6514abcc-a668-4f92-8f62-bbed7ef5d03f
X-WR-CALDESC:Located just south of HWY 2 off 14th Street\n\nParticipants mu
 st register 3 weeks prior to the date of training.  Three hours of on-line
  training must be completed prior to attending the in-person training.\n\n
X-WR-RELCALID:548e9501407b361a6327d5f5f431c006
X-WR-TIMEZONE:America/Chicago
BEGIN:VTIMEZONE
TZID:America/Chicago
BEGIN:STANDARD
TZNAME:CST
DTSTART:20141102T020000
TZOFFSETFROM:-0500
TZOFFSETTO:-0600
RDATE:20151101T020000
END:STANDARD
BEGIN:DAYLIGHT
TZNAME:CDT
DTSTART:20150308T020000
TZOFFSETFROM:-0600
TZOFFSETTO:-0500
RDATE:20160313T020000
END:DAYLIGHT
END:VTIMEZONE
BEGIN:VEVENT
UID:1b4db5e0-1030-4a1b-92bb-145cde80af8d
DTSTAMP:20260424T123955Z
DESCRIPTION:Located just south of HWY 2 off 14th Street\n\nParticipants mus
 t register 3 weeks prior to the date of training.  Three hours of on-line 
 training must be completed prior to attending the in-person training.\n\n
DTSTART;TZID=America/Chicago:20150424T090000
DTEND;TZID=America/Chicago:20150424T160000
LOCATION:Firespring at 1201 Infinity Court
SUMMARY:Fostering Futures Training
END:VEVENT
END:VCALENDAR
