BEGIN:VCALENDAR
VERSION:2.0
PRODID:-//www.nebraskacasa.org//NONSGML kigkonsult.se iCalcreator 2.30.10//
CALSCALE:GREGORIAN
METHOD:PUBLISH
UID:e26df464-2749-4255-ab46-5e811414b4c8
X-WR-CALDESC:
X-WR-RELCALID:ce40402d031adea1ea8b0c5e4b68862a
X-WR-TIMEZONE:America/Chicago
BEGIN:VTIMEZONE
TZID:America/Chicago
BEGIN:STANDARD
TZNAME:CST
DTSTART:20141102T020000
TZOFFSETFROM:-0500
TZOFFSETTO:-0600
RDATE:20151101T020000
RDATE:20161106T020000
END:STANDARD
BEGIN:DAYLIGHT
TZNAME:CDT
DTSTART:20150308T020000
TZOFFSETFROM:-0600
TZOFFSETTO:-0500
RDATE:20160313T020000
END:DAYLIGHT
END:VTIMEZONE
BEGIN:VEVENT
UID:b631438a-5e01-483c-8b1e-930a9ca02d69
DTSTAMP:20260424T110605Z
DESCRIPTION:
DTSTART;TZID=America/Chicago:20150527T110000
DTEND;TZID=America/Chicago:20150527T120000
LOCATION:TBD
SUMMARY:Lancaster County CASA In-Service Training
END:VEVENT
END:VCALENDAR
