BEGIN:VCALENDAR
VERSION:2.0
PRODID:-//www.nebraskacasa.org//NONSGML kigkonsult.se iCalcreator 2.30.10//
CALSCALE:GREGORIAN
METHOD:PUBLISH
UID:f71e839f-92e7-447d-a310-17504684a732
X-WR-CALDESC:Dr. Janet Rosenzweig provides parents\, educators\, and public
  service professionals ensure the sexual health and safety of children in 
 families\, schools\, and communities.  She speaks to peers with the voice 
 of an experienced\, caring colleague identifying challenges and offering s
 olutions.
X-WR-RELCALID:19e324e6c4969821947efb7f629434c5
X-WR-TIMEZONE:America/Chicago
BEGIN:VTIMEZONE
TZID:America/Chicago
BEGIN:STANDARD
TZNAME:CST
DTSTART:20141102T020000
TZOFFSETFROM:-0500
TZOFFSETTO:-0600
RDATE:20151101T020000
RDATE:20161106T020000
END:STANDARD
BEGIN:DAYLIGHT
TZNAME:CDT
DTSTART:20150308T020000
TZOFFSETFROM:-0600
TZOFFSETTO:-0500
RDATE:20160313T020000
END:DAYLIGHT
END:VTIMEZONE
BEGIN:VEVENT
UID:ffbab237-212f-40ca-aad4-182884c3e01d
DTSTAMP:20260424T110948Z
DESCRIPTION:Dr. Janet Rosenzweig provides parents\, educators\, and public 
 service professionals ensure the sexual health and safety of children in f
 amilies\, schools\, and communities.  She speaks to peers with the voice o
 f an experienced\, caring colleague identifying challenges and offering so
 lutions.
DTSTART;TZID=America/Chicago:20150529T083000
DTEND;TZID=America/Chicago:20150529T150000
LOCATION:Central City
SUMMARY:Central City All-day Training
END:VEVENT
END:VCALENDAR
