BEGIN:VCALENDAR
VERSION:2.0
PRODID:-//www.nebraskacasa.org//NONSGML kigkonsult.se iCalcreator 2.30.10//
CALSCALE:GREGORIAN
METHOD:PUBLISH
UID:bb113e5c-4f40-4923-9150-07e71d054681
X-WR-CALDESC:
X-WR-RELCALID:ec5318285a112dd12738a6f84b116ea7
X-WR-TIMEZONE:America/Chicago
BEGIN:VTIMEZONE
TZID:America/Chicago
BEGIN:STANDARD
TZNAME:CST
DTSTART:20141102T020000
TZOFFSETFROM:-0500
TZOFFSETTO:-0600
RDATE:20151101T020000
RDATE:20161106T020000
END:STANDARD
BEGIN:DAYLIGHT
TZNAME:CDT
DTSTART:20150308T020000
TZOFFSETFROM:-0600
TZOFFSETTO:-0500
RDATE:20160313T020000
END:DAYLIGHT
END:VTIMEZONE
BEGIN:VEVENT
UID:57e2a8d4-14f6-4a64-b24a-972090cd0038
DTSTAMP:20260424T095345Z
DESCRIPTION:
DTSTART;TZID=America/Chicago:20150531T130000
DTEND;TZID=America/Chicago:20150602T140000
LOCATION:New Orleans\, LA
SUMMARY:National CASA Conference
END:VEVENT
END:VCALENDAR
