BEGIN:VCALENDAR
VERSION:2.0
PRODID:-//www.nebraskacasa.org//NONSGML kigkonsult.se iCalcreator 2.30.10//
CALSCALE:GREGORIAN
METHOD:PUBLISH
UID:fc8eb772-63a0-4676-9d99-14dba4e003b1
X-WR-CALDESC:'Delores Claiborne'\, starring Kathy Bates and based on a Step
 hen King novel. The movie takes a look at the long lasting effects of dome
 stic violence. We will provide the popcorn! RSVP to Lisa at lsoto@heartlan
 dcasa.org.
X-WR-RELCALID:0dba72c912b5ab5d7e34805a441776a3
X-WR-TIMEZONE:America/Chicago
BEGIN:VTIMEZONE
TZID:America/Chicago
BEGIN:STANDARD
TZNAME:CST
DTSTART:20141102T020000
TZOFFSETFROM:-0500
TZOFFSETTO:-0600
RDATE:20151101T020000
RDATE:20161106T020000
END:STANDARD
BEGIN:DAYLIGHT
TZNAME:CDT
DTSTART:20150308T020000
TZOFFSETFROM:-0600
TZOFFSETTO:-0500
RDATE:20160313T020000
END:DAYLIGHT
END:VTIMEZONE
BEGIN:VEVENT
UID:b4ec18c4-7e7b-49fa-b6c9-7cdc6c871267
DTSTAMP:20260424T094718Z
DESCRIPTION:'Delores Claiborne'\, starring Kathy Bates and based on a Steph
 en King novel. The movie takes a look at the long lasting effects of domes
 tic violence. We will provide the popcorn! RSVP to Lisa at lsoto@heartland
 casa.org.
DTSTART;TZID=America/Chicago:20150611T150000
DTEND;TZID=America/Chicago:20150611T171500
LOCATION:Heartland CASA Office\, 506 W 3rd St. \, Grand Island\, Nebraska 6
 8801
SUMMARY:Heartland CASA Movie
END:VEVENT
END:VCALENDAR
