BEGIN:VCALENDAR
VERSION:2.0
PRODID:-//www.nebraskacasa.org//NONSGML kigkonsult.se iCalcreator 2.30.10//
CALSCALE:GREGORIAN
METHOD:PUBLISH
UID:dacaf6b6-420d-4e9f-b121-84526a892445
X-WR-CALDESC:All advocates are invited to come celebrate with those familie
 s which have been reunified this year
X-WR-RELCALID:0e188128f015a3d81c80dfb72f243ea3
X-WR-TIMEZONE:America/Chicago
BEGIN:VTIMEZONE
TZID:America/Chicago
BEGIN:STANDARD
TZNAME:CST
DTSTART:20141102T020000
TZOFFSETFROM:-0500
TZOFFSETTO:-0600
RDATE:20151101T020000
RDATE:20161106T020000
END:STANDARD
BEGIN:DAYLIGHT
TZNAME:CDT
DTSTART:20150308T020000
TZOFFSETFROM:-0600
TZOFFSETTO:-0500
RDATE:20160313T020000
END:DAYLIGHT
END:VTIMEZONE
BEGIN:VEVENT
UID:8c70279d-b6c0-4ecb-a6d5-fc50fb5ca955
DTSTAMP:20260424T094923Z
DESCRIPTION:All advocates are invited to come celebrate with those families
  which have been reunified this year
DTSTART;TZID=America/Chicago:20150613T130000
DTEND;TZID=America/Chicago:20150613T150000
LOCATION:Memorial Park\, East 4th Street\, North Platte\, NE
SUMMARY:Reunification Day
END:VEVENT
END:VCALENDAR
