BEGIN:VCALENDAR
VERSION:2.0
PRODID:-//www.nebraskacasa.org//NONSGML kigkonsult.se iCalcreator 2.30.10//
CALSCALE:GREGORIAN
METHOD:PUBLISH
UID:3c266002-1467-4f06-83ec-fa803f201ead
X-WR-CALDESC:
X-WR-RELCALID:63698e9dc20eba3f6cd8085db65ace44
X-WR-TIMEZONE:America/Chicago
BEGIN:VTIMEZONE
TZID:America/Chicago
BEGIN:STANDARD
TZNAME:CST
DTSTART:20141102T020000
TZOFFSETFROM:-0500
TZOFFSETTO:-0600
RDATE:20151101T020000
RDATE:20161106T020000
END:STANDARD
BEGIN:DAYLIGHT
TZNAME:CDT
DTSTART:20150308T020000
TZOFFSETFROM:-0600
TZOFFSETTO:-0500
RDATE:20160313T020000
END:DAYLIGHT
END:VTIMEZONE
BEGIN:VEVENT
UID:2edf94ea-df1d-4124-93d1-02b3c7d83fdc
DTSTAMP:20260424T094801Z
DESCRIPTION:
DTSTART;TZID=America/Chicago:20150620T130000
DTEND;TZID=America/Chicago:20150620T170000
LOCATION:North Platte\, NE
SUMMARY:NEBRASKAland Parade
END:VEVENT
END:VCALENDAR
