BEGIN:VCALENDAR
VERSION:2.0
PRODID:-//www.nebraskacasa.org//NONSGML kigkonsult.se iCalcreator 2.30.10//
CALSCALE:GREGORIAN
METHOD:PUBLISH
UID:54ab4b7b-f992-4b6d-b8b8-eed101a45de9
X-WR-CALDESC:
X-WR-RELCALID:d78d1fe0619e5503216aa3fd8e9676ef
X-WR-TIMEZONE:America/Chicago
BEGIN:VTIMEZONE
TZID:America/Chicago
BEGIN:STANDARD
TZNAME:CST
DTSTART:20141102T020000
TZOFFSETFROM:-0500
TZOFFSETTO:-0600
RDATE:20151101T020000
RDATE:20161106T020000
END:STANDARD
BEGIN:DAYLIGHT
TZNAME:CDT
DTSTART:20150308T020000
TZOFFSETFROM:-0600
TZOFFSETTO:-0500
RDATE:20160313T020000
END:DAYLIGHT
END:VTIMEZONE
BEGIN:VEVENT
UID:ec88008d-4191-433e-8368-ff7763e604b2
DTSTAMP:20260424T095150Z
DESCRIPTION:
DTSTART;TZID=America/Chicago:20150622T180000
DTEND;TZID=America/Chicago:20150622T200000
LOCATION:Wild West Arena\, North Platte\, NE
SUMMARY:Family Night - North Platte
END:VEVENT
END:VCALENDAR
