BEGIN:VCALENDAR
VERSION:2.0
PRODID:-//www.nebraskacasa.org//NONSGML kigkonsult.se iCalcreator 2.30.10//
CALSCALE:GREGORIAN
METHOD:PUBLISH
UID:e1f87bac-b3d3-4d97-a42c-d8cfcd530c93
X-WR-CALDESC:
X-WR-RELCALID:05b5026c1c27be4fed0959c9c8d60794
X-WR-TIMEZONE:America/Chicago
BEGIN:VTIMEZONE
TZID:America/Chicago
BEGIN:STANDARD
TZNAME:CST
DTSTART:20141102T020000
TZOFFSETFROM:-0500
TZOFFSETTO:-0600
RDATE:20151101T020000
RDATE:20161106T020000
END:STANDARD
BEGIN:DAYLIGHT
TZNAME:CDT
DTSTART:20150308T020000
TZOFFSETFROM:-0600
TZOFFSETTO:-0500
RDATE:20160313T020000
END:DAYLIGHT
END:VTIMEZONE
BEGIN:VEVENT
UID:c4a361d1-3eec-41a5-bd36-d91da8d384da
DTSTAMP:20260424T095105Z
DESCRIPTION:
DTSTART;TZID=America/Chicago:20150625T090000
DTEND;TZID=America/Chicago:20150625T103000
LOCATION:16 W 3rd St\, Grand Island\, NE 68801
SUMMARY:Coffee with CASA's
END:VEVENT
END:VCALENDAR
