BEGIN:VCALENDAR
VERSION:2.0
PRODID:-//www.nebraskacasa.org//NONSGML kigkonsult.se iCalcreator 2.30.10//
CALSCALE:GREGORIAN
METHOD:PUBLISH
UID:1e56726a-0f04-4d43-95b3-f4265e21c1f8
X-WR-CALDESC:Help fund volunteers for Douglas County CASA by participating.
   The 5K is $25 for individual runners and $20 per person for teams with a
  minimum of 5 runners. The 5K fee pays for your race shirt\, one raffle en
 try at the Cantina Laredo Post-Race Party\, and one free beer at the Canti
 na Laredo Post-Race Party. The Little Heroes 1K (12 and under) will $12 pe
 r runner. 1K runners will receive official race capes.\n\n -Registration: 
 GETMEREGISTERED.COM and search 5K Superhero Run for CASA or call (402) 932
 -5683 for more information
X-WR-RELCALID:828809c13c15ae59979c90ad49a55d16
X-WR-TIMEZONE:America/Chicago
BEGIN:VTIMEZONE
TZID:America/Chicago
BEGIN:STANDARD
TZNAME:CST
DTSTART:20141102T020000
TZOFFSETFROM:-0500
TZOFFSETTO:-0600
RDATE:20151101T020000
RDATE:20161106T020000
END:STANDARD
BEGIN:DAYLIGHT
TZNAME:CDT
DTSTART:20150308T020000
TZOFFSETFROM:-0600
TZOFFSETTO:-0500
RDATE:20160313T020000
END:DAYLIGHT
END:VTIMEZONE
BEGIN:VEVENT
UID:f03624f7-d320-42d0-ae2b-878afd975e1b
DTSTAMP:20260424T082135Z
DESCRIPTION:Help fund volunteers for Douglas County CASA by participating. 
  The 5K is $25 for individual runners and $20 per person for teams with a 
 minimum of 5 runners. The 5K fee pays for your race shirt\, one raffle ent
 ry at the Cantina Laredo Post-Race Party\, and one free beer at the Cantin
 a Laredo Post-Race Party. The Little Heroes 1K (12 and under) will $12 per
  runner. 1K runners will receive official race capes.\n\n -Registration: G
 ETMEREGISTERED.COM and search 5K Superhero Run for CASA or call (402) 932-
 5683 for more information
DTSTART;TZID=America/Chicago:20150711T080000
DTEND;TZID=America/Chicago:20150711T110000
LOCATION:Turner Park in Omaha
SUMMARY:Douglas County CASA Superhero 5k Run
END:VEVENT
END:VCALENDAR
