BEGIN:VCALENDAR
VERSION:2.0
PRODID:-//www.nebraskacasa.org//NONSGML kigkonsult.se iCalcreator 2.30.10//
CALSCALE:GREGORIAN
METHOD:PUBLISH
UID:ef0e6341-9d47-43ea-9e81-0cdef96ba411
X-WR-CALDESC:
X-WR-RELCALID:3cd7ce62917f7fbac56b4e6e26a6eac3
X-WR-TIMEZONE:America/Chicago
BEGIN:VTIMEZONE
TZID:America/Chicago
BEGIN:STANDARD
TZNAME:CST
DTSTART:20141102T020000
TZOFFSETFROM:-0500
TZOFFSETTO:-0600
RDATE:20151101T020000
RDATE:20161106T020000
END:STANDARD
BEGIN:DAYLIGHT
TZNAME:CDT
DTSTART:20150308T020000
TZOFFSETFROM:-0600
TZOFFSETTO:-0500
RDATE:20160313T020000
END:DAYLIGHT
END:VTIMEZONE
BEGIN:VEVENT
UID:7d0b1333-324e-4c8e-8753-aa168d153719
DTSTAMP:20260424T083007Z
DESCRIPTION:
DTSTART;TZID=America/Chicago:20150730T170000
DTEND;TZID=America/Chicago:20150730T200000
LOCATION:CASA for Lancaster County
SUMMARY:Nebraska CASA Board Meeting
END:VEVENT
END:VCALENDAR
