BEGIN:VCALENDAR
VERSION:2.0
PRODID:-//www.nebraskacasa.org//NONSGML kigkonsult.se iCalcreator 2.30.10//
CALSCALE:GREGORIAN
METHOD:PUBLISH
UID:5133af3a-4f72-4e62-b0b9-0bb98e1f89f5
X-WR-CALDESC:Exploring Expectations—Defining adoption\, the process\, and t
 he key players. Participant’s hopes and fears about\nthe adoption process 
 are recognized and empowerment strategies are identified to assist them in
  the process.\nParticipant’s explore their fantasies about children they m
 ight adopt to become aware of the possible influence on their\ndecision ab
 out adoption.
X-WR-RELCALID:94b1649ce7ea264bbb696ed4cb61a85b
X-WR-TIMEZONE:America/Chicago
BEGIN:VTIMEZONE
TZID:America/Chicago
BEGIN:STANDARD
TZNAME:CST
DTSTART:20141102T020000
TZOFFSETFROM:-0500
TZOFFSETTO:-0600
RDATE:20151101T020000
RDATE:20161106T020000
END:STANDARD
BEGIN:DAYLIGHT
TZNAME:CDT
DTSTART:20150308T020000
TZOFFSETFROM:-0600
TZOFFSETTO:-0500
RDATE:20160313T020000
END:DAYLIGHT
END:VTIMEZONE
BEGIN:VEVENT
UID:ab5a0a99-f85b-4c72-a287-1e0b9bbeccb2
DTSTAMP:20260424T070616Z
DESCRIPTION:Exploring Expectations—Defining adoption\, the process\, and th
 e key players. Participant’s hopes and fears about\nthe adoption process a
 re recognized and empowerment strategies are identified to assist them in 
 the process.\nParticipant’s explore their fantasies about children they mi
 ght adopt to become aware of the possible influence on their\ndecision abo
 ut adoption.
DTSTART;TZID=America/Chicago:20150814T180000
DTEND;TZID=America/Chicago:20150814T213000
LOCATION:North Platte Fire Station\, 715 S. Jeffers\, North Platte\, NE
SUMMARY:Making the Committment To Adopt
END:VEVENT
END:VCALENDAR
