BEGIN:VCALENDAR
VERSION:2.0
PRODID:-//www.nebraskacasa.org//NONSGML kigkonsult.se iCalcreator 2.30.10//
CALSCALE:GREGORIAN
METHOD:PUBLISH
UID:c9de9378-9a0d-4b3f-b61e-c84cda14a6c1
X-WR-CALDESC:Categories are 0-6 month\, 7-12 month and 13-18 months.\nPRE-R
 EGISTRATION is required!\nRegistration fee is $10 until August 7th\, then 
 $15 until August 13th\, and no registrations will be accepted after August
  13th. Registration forms can be picked up at: Columbus Chamber of Commerc
 e office\, 753 33rd Ave.\, Shelley Stempek's State Farm Office\, 2457 33rd
  Ave.\, The Corner Stop\, 220 23rd Street or at the CASA Connection office
  located at 1465 27th Ave. in Columbus. We can also email or fax one to yo
 u.
X-WR-RELCALID:78ab6e978f1cd172e3bcb36201240bd5
X-WR-TIMEZONE:America/Chicago
BEGIN:VTIMEZONE
TZID:America/Chicago
BEGIN:STANDARD
TZNAME:CST
DTSTART:20141102T020000
TZOFFSETFROM:-0500
TZOFFSETTO:-0600
RDATE:20151101T020000
RDATE:20161106T020000
END:STANDARD
BEGIN:DAYLIGHT
TZNAME:CDT
DTSTART:20150308T020000
TZOFFSETFROM:-0600
TZOFFSETTO:-0500
RDATE:20160313T020000
END:DAYLIGHT
END:VTIMEZONE
BEGIN:VEVENT
UID:b8e93ad6-7d24-4c75-b354-af9538f92af4
DTSTAMP:20260424T070845Z
DESCRIPTION:Categories are 0-6 month\, 7-12 month and 13-18 months.\nPRE-RE
 GISTRATION is required!\nRegistration fee is $10 until August 7th\, then $
 15 until August 13th\, and no registrations will be accepted after August 
 13th. Registration forms can be picked up at: Columbus Chamber of Commerce
  office\, 753 33rd Ave.\, Shelley Stempek's State Farm Office\, 2457 33rd 
 Ave.\, The Corner Stop\, 220 23rd Street or at the CASA Connection office 
 located at 1465 27th Ave. in Columbus. We can also email or fax one to you
 .
DTSTART;TZID=America/Chicago:20150815T083000
DTEND;TZID=America/Chicago:20150815T093000
LOCATION:
SUMMARY:I'm A Little Cutie Baby Show
END:VEVENT
END:VCALENDAR
