BEGIN:VCALENDAR
VERSION:2.0
PRODID:-//www.nebraskacasa.org//NONSGML kigkonsult.se iCalcreator 2.30.10//
CALSCALE:GREGORIAN
METHOD:PUBLISH
UID:c5adced0-cacc-42af-9353-67c444162b0d
X-WR-CALDESC:This training will address:\n*The impact of trauma\n* How to s
 creen for trauma\n* Which treatments are appropriate for children who have
  been traumatized
X-WR-RELCALID:f4672476d661bb40974ff4173a97e952
X-WR-TIMEZONE:America/Chicago
BEGIN:VTIMEZONE
TZID:America/Chicago
BEGIN:STANDARD
TZNAME:CST
DTSTART:20141102T020000
TZOFFSETFROM:-0500
TZOFFSETTO:-0600
RDATE:20151101T020000
RDATE:20161106T020000
END:STANDARD
BEGIN:DAYLIGHT
TZNAME:CDT
DTSTART:20150308T020000
TZOFFSETFROM:-0600
TZOFFSETTO:-0500
RDATE:20160313T020000
END:DAYLIGHT
END:VTIMEZONE
BEGIN:VEVENT
UID:bad25dfb-7c0a-440e-a333-24e01a663ea2
DTSTAMP:20260424T055454Z
DESCRIPTION:This training will address:\n*The impact of trauma\n* How to sc
 reen for trauma\n* Which treatments are appropriate for children who have 
 been traumatized
DTSTART;TZID=America/Chicago:20150903T090000
DTEND;TZID=America/Chicago:20150903T120000
LOCATION:Holiday Inn Express\, Hastings Nebraska
SUMMARY:Understanding & Screening for Trauma in Children
END:VEVENT
END:VCALENDAR
