BEGIN:VCALENDAR
VERSION:2.0
PRODID:-//www.nebraskacasa.org//NONSGML kigkonsult.se iCalcreator 2.30.10//
CALSCALE:GREGORIAN
METHOD:PUBLISH
UID:e2de33e6-4a3e-42c1-aa9b-ce54732568ba
X-WR-CALDESC:This training will address:\n*The impact of trauma\n* How to s
 creen for trauma\n* Which treatments are appropriate for children who have
  been traumatized
X-WR-RELCALID:8e8f6d41c3d4aef48b5fc1034f8b283f
X-WR-TIMEZONE:America/Chicago
BEGIN:VTIMEZONE
TZID:America/Chicago
BEGIN:STANDARD
TZNAME:CST
DTSTART:20141102T020000
TZOFFSETFROM:-0500
TZOFFSETTO:-0600
RDATE:20151101T020000
RDATE:20161106T020000
END:STANDARD
BEGIN:DAYLIGHT
TZNAME:CDT
DTSTART:20150308T020000
TZOFFSETFROM:-0600
TZOFFSETTO:-0500
RDATE:20160313T020000
END:DAYLIGHT
END:VTIMEZONE
BEGIN:VEVENT
UID:410c0a74-6f58-4ff9-8647-007dda49cfa3
DTSTAMP:20260424T055408Z
DESCRIPTION:This training will address:\n*The impact of trauma\n* How to sc
 reen for trauma\n* Which treatments are appropriate for children who have 
 been traumatized
DTSTART;TZID=America/Chicago:20150903T140000
DTEND;TZID=America/Chicago:20150903T170000
LOCATION:Super 8 Motel \, Holdrege\, Nebraska
SUMMARY:Understanding & Screening for Trauma in Children
END:VEVENT
END:VCALENDAR
