BEGIN:VCALENDAR
VERSION:2.0
PRODID:-//www.nebraskacasa.org//NONSGML kigkonsult.se iCalcreator 2.30.10//
CALSCALE:GREGORIAN
METHOD:PUBLISH
UID:7dbf3fa9-4da6-4f69-8644-d06c94c4c77c
X-WR-CALDESC:*What is Fetal Alcohol Spectrum Disorder?\n* What does the bra
 in have to do with it?\n* Learn about hands-on tools to understand and dec
 rease challenging behaviors!\n\nThis workshop is designed to increase unde
 rstanding of Fetal Alcohol Spectrum Disorder (FASD) and other neurobehavio
 ral differences\, including developing effective parenting and professiona
 l techniques. Individuals with FASD are referred to as having an invisible
  physical disability\, since there are few external physical characteristi
 cs of prenatal alcohol exposure.
X-WR-RELCALID:5713ec3ed7b879fc3a46846b044e2267
X-WR-TIMEZONE:America/Chicago
BEGIN:VTIMEZONE
TZID:America/Chicago
BEGIN:STANDARD
TZNAME:CST
DTSTART:20141102T020000
TZOFFSETFROM:-0500
TZOFFSETTO:-0600
RDATE:20151101T020000
RDATE:20161106T020000
END:STANDARD
BEGIN:DAYLIGHT
TZNAME:CDT
DTSTART:20150308T020000
TZOFFSETFROM:-0600
TZOFFSETTO:-0500
RDATE:20160313T020000
RDATE:20170312T020000
END:DAYLIGHT
END:VTIMEZONE
BEGIN:VEVENT
UID:737720db-0c8d-400f-ba1e-231d6449034a
DTSTAMP:20260424T060154Z
DESCRIPTION:*What is Fetal Alcohol Spectrum Disorder?\n* What does the brai
 n have to do with it?\n* Learn about hands-on tools to understand and decr
 ease challenging behaviors!\n\nThis workshop is designed to increase under
 standing of Fetal Alcohol Spectrum Disorder (FASD) and other neurobehavior
 al differences\, including developing effective parenting and professional
  techniques. Individuals with FASD are referred to as having an invisible 
 physical disability\, since there are few external physical characteristic
 s of prenatal alcohol exposure.
DTSTART;TZID=America/Chicago:20150912T090000
DTEND;TZID=America/Chicago:20150912T163000
LOCATION:Sandhills Convention Center/ Quality Inn & Suites\, 2102 South Jef
 fers\, North Platte\, NE
SUMMARY:FASD into Action With Karen Anderson
END:VEVENT
END:VCALENDAR
