BEGIN:VCALENDAR
VERSION:2.0
PRODID:-//www.nebraskacasa.org//NONSGML kigkonsult.se iCalcreator 2.30.10//
CALSCALE:GREGORIAN
METHOD:PUBLISH
UID:55cad08a-7d95-4a5e-97c7-3b59eff6f636
X-WR-CALDESC:CASA Volunteer Pre-Service Training Early Fall Session\, Septe
 mber 14 through October 16. Pre-Service Training requires 3 hours of onlin
 e work and 3 hours of in-person class each week for five weeks. The in-per
 son class is offered twice a week: Wednesday afternoon or Thursday evening
 .
X-WR-RELCALID:2413497034c0483ac618f08759aac622
X-WR-TIMEZONE:America/Chicago
BEGIN:VTIMEZONE
TZID:America/Chicago
BEGIN:STANDARD
TZNAME:CST
DTSTART:20141102T020000
TZOFFSETFROM:-0500
TZOFFSETTO:-0600
RDATE:20151101T020000
RDATE:20161106T020000
END:STANDARD
BEGIN:DAYLIGHT
TZNAME:CDT
DTSTART:20150308T020000
TZOFFSETFROM:-0600
TZOFFSETTO:-0500
RDATE:20160313T020000
RDATE:20170312T020000
END:DAYLIGHT
END:VTIMEZONE
BEGIN:VEVENT
UID:a6955c4c-8452-4d88-a0e5-4332b7d62b35
DTSTAMP:20260424T060717Z
DESCRIPTION:CASA Volunteer Pre-Service Training Early Fall Session\, Septem
 ber 14 through October 16. Pre-Service Training requires 3 hours of online
  work and 3 hours of in-person class each week for five weeks. The in-pers
 on class is offered twice a week: Wednesday afternoon or Thursday evening.
DTSTART;TZID=America/Chicago:20150916T130000
DTEND;TZID=America/Chicago:20150916T160000
LOCATION:CASA Training Center\, 2412 St. Mary's Avenue
SUMMARY:Douglas County CASA Volunteer Pre-Service Training Early Fall Sessi
 on
END:VEVENT
END:VCALENDAR
