BEGIN:VCALENDAR
VERSION:2.0
PRODID:-//www.nebraskacasa.org//NONSGML kigkonsult.se iCalcreator 2.30.10//
CALSCALE:GREGORIAN
METHOD:PUBLISH
UID:3815542c-ff66-4de8-a796-1a621f55f210
X-WR-CALDESC:A training session focused on Domestic Violence\, Sexual Assau
 lt\, Stalking\, and Human Trafficking.\nNo Cost to Register! Register by S
 eptember 11\, 2015
X-WR-RELCALID:7ab62658e47cca3e3180263ccb14ff02
X-WR-TIMEZONE:America/Chicago
BEGIN:VTIMEZONE
TZID:America/Chicago
BEGIN:STANDARD
TZNAME:CST
DTSTART:20141102T020000
TZOFFSETFROM:-0500
TZOFFSETTO:-0600
RDATE:20151101T020000
RDATE:20161106T020000
END:STANDARD
BEGIN:DAYLIGHT
TZNAME:CDT
DTSTART:20150308T020000
TZOFFSETFROM:-0600
TZOFFSETTO:-0500
RDATE:20160313T020000
RDATE:20170312T020000
END:DAYLIGHT
END:VTIMEZONE
BEGIN:VEVENT
UID:805af130-1278-4698-b133-f64ca6c574c6
DTSTAMP:20260424T055748Z
DESCRIPTION:A training session focused on Domestic Violence\, Sexual Assaul
 t\, Stalking\, and Human Trafficking.\nNo Cost to Register! Register by Se
 ptember 11\, 2015
DTSTART;TZID=America/Chicago:20150922T083000
DTEND;TZID=America/Chicago:20150922T164500
LOCATION:Holiday Inn\, 141 N 9th\, Lincoln\, NE
SUMMARY:Crimes of Power and Control
END:VEVENT
END:VCALENDAR
