BEGIN:VCALENDAR
VERSION:2.0
PRODID:-//www.nebraskacasa.org//NONSGML kigkonsult.se iCalcreator 2.30.10//
CALSCALE:GREGORIAN
METHOD:PUBLISH
UID:8f1004c7-aacc-4e6b-b784-17a7b031771d
X-WR-CALDESC:A training session focused on Domestic Violence\, Sexual Assau
 lt\, Stalking\, and Human Trafficking.\nNo Cost to Register! Register by S
 eptember 11\, 2015
X-WR-RELCALID:0c7ef2bba5c0ad8ea9b4fb52e82d5a1a
X-WR-TIMEZONE:America/Chicago
BEGIN:VTIMEZONE
TZID:America/Chicago
BEGIN:STANDARD
TZNAME:CST
DTSTART:20141102T020000
TZOFFSETFROM:-0500
TZOFFSETTO:-0600
RDATE:20151101T020000
RDATE:20161106T020000
END:STANDARD
BEGIN:DAYLIGHT
TZNAME:CDT
DTSTART:20150308T020000
TZOFFSETFROM:-0600
TZOFFSETTO:-0500
RDATE:20160313T020000
RDATE:20170312T020000
END:DAYLIGHT
END:VTIMEZONE
BEGIN:VEVENT
UID:d75c2bb4-28b5-487d-bcd3-732f7ce430e4
DTSTAMP:20260424T055859Z
DESCRIPTION:A training session focused on Domestic Violence\, Sexual Assaul
 t\, Stalking\, and Human Trafficking.\nNo Cost to Register! Register by Se
 ptember 11\, 2015
DTSTART;TZID=America/Chicago:20150923T083000
DTEND;TZID=America/Chicago:20150923T164500
LOCATION:Holiday Inn\, 141 N 9th\, Lincoln\, NE
SUMMARY:Crimes of Power and Control
END:VEVENT
END:VCALENDAR
