BEGIN:VCALENDAR
VERSION:2.0
PRODID:-//www.nebraskacasa.org//NONSGML kigkonsult.se iCalcreator 2.30.10//
CALSCALE:GREGORIAN
METHOD:PUBLISH
UID:40f42977-d444-4a22-8e43-45ceb7545255
X-WR-CALDESC:CASA Volunteer Pre-Service Training Early Fall Session\, Septe
 mber 14 through October 16. Pre-Service Training requires 3 hours of onlin
 e work and 3 hours of in-person class each week for five weeks. The in-per
 son class is offered twice a week: Wednesday afternoon or Thursday evening
 .
X-WR-RELCALID:b39e10bd8877ef2fc036c9f5ecbe8bd8
X-WR-TIMEZONE:America/Chicago
BEGIN:VTIMEZONE
TZID:America/Chicago
BEGIN:STANDARD
TZNAME:CST
DTSTART:20141102T020000
TZOFFSETFROM:-0500
TZOFFSETTO:-0600
RDATE:20151101T020000
RDATE:20161106T020000
END:STANDARD
BEGIN:DAYLIGHT
TZNAME:CDT
DTSTART:20150308T020000
TZOFFSETFROM:-0600
TZOFFSETTO:-0500
RDATE:20160313T020000
RDATE:20170312T020000
END:DAYLIGHT
END:VTIMEZONE
BEGIN:VEVENT
UID:4cc116b8-8707-47e2-81e3-8bf25ae2cc3d
DTSTAMP:20260424T060601Z
DESCRIPTION:CASA Volunteer Pre-Service Training Early Fall Session\, Septem
 ber 14 through October 16. Pre-Service Training requires 3 hours of online
  work and 3 hours of in-person class each week for five weeks. The in-pers
 on class is offered twice a week: Wednesday afternoon or Thursday evening.
DTSTART;TZID=America/Chicago:20150930T130000
DTEND;TZID=America/Chicago:20150930T160000
LOCATION:CASA Training Center\, 2412 St. Mary's Avenue
SUMMARY:Douglas County CASA Volunteer Pre-Service Training Early Fall Sessi
 on
END:VEVENT
END:VCALENDAR
