BEGIN:VCALENDAR
VERSION:2.0
PRODID:-//www.nebraskacasa.org//NONSGML kigkonsult.se iCalcreator 2.30.10//
CALSCALE:GREGORIAN
METHOD:PUBLISH
UID:4c2fd08e-9623-43e4-9ec2-e4b2d604b152
X-WR-CALDESC:Are you interested in learning more about CASA for Douglas Cou
 nty and becoming an advocate for kids in foster care? Please join us for a
  CASA Information Session. Sessions are held on the second Tuesday of each
  month at noon and 5:30 PM and last about an hour. We look forward to talk
 ing with you!
X-WR-RELCALID:6def3d99fe17476c189b38a7712ca08b
X-WR-TIMEZONE:America/Chicago
BEGIN:VTIMEZONE
TZID:America/Chicago
BEGIN:STANDARD
TZNAME:CST
DTSTART:20141102T020000
TZOFFSETFROM:-0500
TZOFFSETTO:-0600
RDATE:20151101T020000
RDATE:20161106T020000
END:STANDARD
BEGIN:DAYLIGHT
TZNAME:CDT
DTSTART:20150308T020000
TZOFFSETFROM:-0600
TZOFFSETTO:-0500
RDATE:20160313T020000
RDATE:20170312T020000
END:DAYLIGHT
END:VTIMEZONE
BEGIN:VEVENT
UID:07c8ff57-f073-410f-8c17-b89e897a8158
DTSTAMP:20260424T044930Z
DESCRIPTION:Are you interested in learning more about CASA for Douglas Coun
 ty and becoming an advocate for kids in foster care? Please join us for a 
 CASA Information Session. Sessions are held on the second Tuesday of each 
 month at noon and 5:30 PM and last about an hour. We look forward to talki
 ng with you!
DTSTART;TZID=America/Chicago:20151013T173000
DTEND;TZID=America/Chicago:20151013T183000
LOCATION:CASA For Douglas County\, 2412 St. Mary’s Ave. Omaha \, NE 68105
SUMMARY:Douglas County CASA Informational Meeting
END:VEVENT
END:VCALENDAR
