BEGIN:VCALENDAR
VERSION:2.0
PRODID:-//www.nebraskacasa.org//NONSGML kigkonsult.se iCalcreator 2.30.10//
CALSCALE:GREGORIAN
METHOD:PUBLISH
UID:67e345b4-55ed-4fcb-a138-e96e6637a45e
X-WR-CALDESC:CASA Volunteer Pre-Service Training Early Fall Session\, Septe
 mber 14 through October 16. Pre-Service Training requires 3 hours of onlin
 e work and 3 hours of in-person class each week for five weeks. The in-per
 son class is offered twice a week: Wednesday afternoon or Thursday evening
 .
X-WR-RELCALID:d50aabf6802bf188b66ebc3692b39636
X-WR-TIMEZONE:America/Chicago
BEGIN:VTIMEZONE
TZID:America/Chicago
BEGIN:STANDARD
TZNAME:CST
DTSTART:20141102T020000
TZOFFSETFROM:-0500
TZOFFSETTO:-0600
RDATE:20151101T020000
RDATE:20161106T020000
END:STANDARD
BEGIN:DAYLIGHT
TZNAME:CDT
DTSTART:20150308T020000
TZOFFSETFROM:-0600
TZOFFSETTO:-0500
RDATE:20160313T020000
RDATE:20170312T020000
END:DAYLIGHT
END:VTIMEZONE
BEGIN:VEVENT
UID:adfc5d8f-044c-4a66-bba2-78bd0224ffc5
DTSTAMP:20260424T045148Z
DESCRIPTION:CASA Volunteer Pre-Service Training Early Fall Session\, Septem
 ber 14 through October 16. Pre-Service Training requires 3 hours of online
  work and 3 hours of in-person class each week for five weeks. The in-pers
 on class is offered twice a week: Wednesday afternoon or Thursday evening.
DTSTART;TZID=America/Chicago:20151015T173000
DTEND;TZID=America/Chicago:20151015T203000
LOCATION:CASA Training Center\, 2412 St. Mary's Avenue
SUMMARY:Douglas County CASA Volunteer Pre-Service Training Early Fall Sessi
 on
END:VEVENT
END:VCALENDAR
