BEGIN:VCALENDAR
VERSION:2.0
PRODID:-//www.nebraskacasa.org//NONSGML kigkonsult.se iCalcreator 2.30.10//
CALSCALE:GREGORIAN
METHOD:PUBLISH
UID:a0b4fa74-d727-4279-b22f-ce62a153cd87
X-WR-CALDESC:
X-WR-RELCALID:0621ac870ec265b6549c3cce4f3bef22
X-WR-TIMEZONE:America/Chicago
BEGIN:VTIMEZONE
TZID:America/Chicago
BEGIN:STANDARD
TZNAME:CST
DTSTART:20141102T020000
TZOFFSETFROM:-0500
TZOFFSETTO:-0600
RDATE:20151101T020000
RDATE:20161106T020000
END:STANDARD
BEGIN:DAYLIGHT
TZNAME:CDT
DTSTART:20150308T020000
TZOFFSETFROM:-0600
TZOFFSETTO:-0500
RDATE:20160313T020000
RDATE:20170312T020000
END:DAYLIGHT
END:VTIMEZONE
BEGIN:VEVENT
UID:a322846b-e86c-457c-8df5-b91382a2000f
DTSTAMP:20260424T044438Z
DESCRIPTION:
DTSTART;TZID=America/Chicago:20151015T180000
DTEND;TZID=America/Chicago:20151015T200000
LOCATION:CASA for Lancaster County
SUMMARY:Nebraska CASA Board Meeting
END:VEVENT
END:VCALENDAR
