BEGIN:VCALENDAR
VERSION:2.0
PRODID:-//www.nebraskacasa.org//NONSGML kigkonsult.se iCalcreator 2.30.10//
CALSCALE:GREGORIAN
METHOD:PUBLISH
UID:85e96163-893b-487f-8c0b-4dbe8b7294b3
X-WR-CALDESC:Parking behind the building (south)\; please use west door\,\n
 Take the stairs to 3rd floor.\nTrainers: Dawn Rockey\, Alex Labenz\, Kryst
 al Rash\, Kristi Morrow\n\nWe will meet once a week for 5 weeks on Tuesday
  evenings from 6:00PM to 9:00PM in addition to the shorter orientation ses
 sion on Tuesday\, September 22\, 2015. \n
X-WR-RELCALID:b3a07fe3a5feaf6b4e31b75b2697956a
X-WR-TIMEZONE:America/Chicago
BEGIN:VTIMEZONE
TZID:America/Chicago
BEGIN:STANDARD
TZNAME:CST
DTSTART:20141102T020000
TZOFFSETFROM:-0500
TZOFFSETTO:-0600
RDATE:20151101T020000
RDATE:20161106T020000
END:STANDARD
BEGIN:DAYLIGHT
TZNAME:CDT
DTSTART:20150308T020000
TZOFFSETFROM:-0600
TZOFFSETTO:-0500
RDATE:20160313T020000
RDATE:20170312T020000
END:DAYLIGHT
END:VTIMEZONE
BEGIN:VEVENT
UID:b676d4c3-e58c-45b9-ac15-b4b306b99139
DTSTAMP:20260424T044555Z
DESCRIPTION:Parking behind the building (south)\; please use west door\,\nT
 ake the stairs to 3rd floor.\nTrainers: Dawn Rockey\, Alex Labenz\, Krysta
 l Rash\, Kristi Morrow\n\nWe will meet once a week for 5 weeks on Tuesday 
 evenings from 6:00PM to 9:00PM in addition to the shorter orientation sess
 ion on Tuesday\, September 22\, 2015. \n
DTSTART;TZID=America/Chicago:20151020T180000
DTEND;TZID=America/Chicago:20151020T210000
LOCATION:CASA for Lancaster County 1141 H Street\, Suite C\, 3rd Floor
SUMMARY:Lancaster County New Volunteer Training
END:VEVENT
END:VCALENDAR
