BEGIN:VCALENDAR
VERSION:2.0
PRODID:-//www.nebraskacasa.org//NONSGML kigkonsult.se iCalcreator 2.30.10//
CALSCALE:GREGORIAN
METHOD:PUBLISH
UID:fb658ce2-49d0-44d4-9b6a-39e067f623ec
X-WR-CALDESC:CASA Volunteer Pre-Service Training Late Fall Session\, Octobe
 r 19 through November 20. Pre-Service Training requires 3 hours of online 
 work and 3 hours of in-person class each week for five weeks. The in-perso
 n class is offered twice a week: Wednesday afternoon or Thursday evening.
X-WR-RELCALID:d7f193fc325f95362528e615a02b7b49
X-WR-TIMEZONE:America/Chicago
BEGIN:VTIMEZONE
TZID:America/Chicago
BEGIN:STANDARD
TZNAME:CST
DTSTART:20141102T020000
TZOFFSETFROM:-0500
TZOFFSETTO:-0600
RDATE:20151101T020000
RDATE:20161106T020000
END:STANDARD
BEGIN:DAYLIGHT
TZNAME:CDT
DTSTART:20150308T020000
TZOFFSETFROM:-0600
TZOFFSETTO:-0500
RDATE:20160313T020000
RDATE:20170312T020000
END:DAYLIGHT
END:VTIMEZONE
BEGIN:VEVENT
UID:bfd43a19-5bb2-4e4f-b37b-2e82e4adc3e7
DTSTAMP:20260424T045239Z
DESCRIPTION:CASA Volunteer Pre-Service Training Late Fall Session\, October
  19 through November 20. Pre-Service Training requires 3 hours of online w
 ork and 3 hours of in-person class each week for five weeks. The in-person
  class is offered twice a week: Wednesday afternoon or Thursday evening.
DTSTART;TZID=America/Chicago:20151022T173000
DTEND;TZID=America/Chicago:20151022T203000
LOCATION:CASA Training Center\, 2412 St. Mary's Avenue
SUMMARY:Douglas County CASA Volunteer Pre-Service Training Early Fall Sessi
 on
END:VEVENT
END:VCALENDAR
