BEGIN:VCALENDAR
VERSION:2.0
PRODID:-//www.nebraskacasa.org//NONSGML kigkonsult.se iCalcreator 2.30.10//
CALSCALE:GREGORIAN
METHOD:PUBLISH
UID:ad1a4af6-1a1d-4dc8-bdc1-ee89850a69ef
X-WR-CALDESC:Training for CASA staff and volunteers who work on your databa
 se.  Located at Southeast Community College at 301 South 68th Street Place
 .  Rooms provided at the Chase Hotel at 200 South 68th Street Place - http
 ://www.chasehotellincoln.com/\nDay 1 - Basic CasaManager Training 10 to 4
 \nDay 2 - Report writing for current reports 9 to 5\nDay 3 - Advanced trai
 ning including advanced reporting 9 to 3
X-WR-RELCALID:0479aa79c1231ae0da8ef81df03c154d
X-WR-TIMEZONE:America/Chicago
BEGIN:VTIMEZONE
TZID:America/Chicago
BEGIN:STANDARD
TZNAME:CST
DTSTART:20141102T020000
TZOFFSETFROM:-0500
TZOFFSETTO:-0600
RDATE:20151101T020000
RDATE:20161106T020000
END:STANDARD
BEGIN:DAYLIGHT
TZNAME:CDT
DTSTART:20150308T020000
TZOFFSETFROM:-0600
TZOFFSETTO:-0500
RDATE:20160313T020000
RDATE:20170312T020000
END:DAYLIGHT
END:VTIMEZONE
BEGIN:VEVENT
UID:bdc00379-e07d-47bd-b7bd-7ccf66dc2910
DTSTAMP:20260424T044352Z
DESCRIPTION:Training for CASA staff and volunteers who work on your databas
 e.  Located at Southeast Community College at 301 South 68th Street Place.
   Rooms provided at the Chase Hotel at 200 South 68th Street Place - http:
 //www.chasehotellincoln.com/\nDay 1 - Basic CasaManager Training 10 to 4\n
 Day 2 - Report writing for current reports 9 to 5\nDay 3 - Advanced traini
 ng including advanced reporting 9 to 3
DTSTART;TZID=America/Chicago:20151026T100000
DTEND;TZID=America/Chicago:20151028T160000
LOCATION:Southeast Community College
SUMMARY:CasaManager Training
END:VEVENT
END:VCALENDAR
