BEGIN:VCALENDAR
VERSION:2.0
PRODID:-//www.nebraskacasa.org//NONSGML kigkonsult.se iCalcreator 2.30.10//
CALSCALE:GREGORIAN
METHOD:PUBLISH
UID:a89a169b-a52f-4d68-ae96-09a789644fce
X-WR-CALDESC:Parking behind the building (south)\; please use west door\,\n
 Take the stairs to 3rd floor.\nTrainers: Dawn Rockey\, Alex Labenz\, Kryst
 al Rash\, Kristi Morrow\n\nWe will meet once a week for 5 weeks on Tuesday
  evenings from 6:00PM to 9:00PM in addition to the shorter orientation ses
 sion on Tuesday\, September 22\, 2015. \n
X-WR-RELCALID:07a48e868f8e1dd85d41cf8951bab587
X-WR-TIMEZONE:America/Chicago
BEGIN:VTIMEZONE
TZID:America/Chicago
BEGIN:STANDARD
TZNAME:CST
DTSTART:20141102T020000
TZOFFSETFROM:-0500
TZOFFSETTO:-0600
RDATE:20151101T020000
RDATE:20161106T020000
END:STANDARD
BEGIN:DAYLIGHT
TZNAME:CDT
DTSTART:20150308T020000
TZOFFSETFROM:-0600
TZOFFSETTO:-0500
RDATE:20160313T020000
RDATE:20170312T020000
END:DAYLIGHT
END:VTIMEZONE
BEGIN:VEVENT
UID:2858ce98-0d8d-4ef4-aa21-b694069563dc
DTSTAMP:20260424T044550Z
DESCRIPTION:Parking behind the building (south)\; please use west door\,\nT
 ake the stairs to 3rd floor.\nTrainers: Dawn Rockey\, Alex Labenz\, Krysta
 l Rash\, Kristi Morrow\n\nWe will meet once a week for 5 weeks on Tuesday 
 evenings from 6:00PM to 9:00PM in addition to the shorter orientation sess
 ion on Tuesday\, September 22\, 2015. \n
DTSTART;TZID=America/Chicago:20151027T180000
DTEND;TZID=America/Chicago:20151027T210000
LOCATION:CASA for Lancaster County 1141 H Street\, Suite C\, 3rd Floor
SUMMARY:Lancaster County New Volunteer Training
END:VEVENT
END:VCALENDAR
