BEGIN:VCALENDAR
VERSION:2.0
PRODID:-//www.nebraskacasa.org//NONSGML kigkonsult.se iCalcreator 2.30.10//
CALSCALE:GREGORIAN
METHOD:PUBLISH
UID:288dcbfa-a495-493f-a970-100f13daab35
X-WR-CALDESC:CASA Volunteer Pre-Service Training Late Fall Session\, Octobe
 r 19 through November 20. Pre-Service Training requires 3 hours of online 
 work and 3 hours of in-person class each week for five weeks. The in-perso
 n class is offered twice a week: Wednesday afternoon or Thursday evening.
X-WR-RELCALID:903f9e1b885229da18bf14457635b81b
X-WR-TIMEZONE:America/Chicago
BEGIN:VTIMEZONE
TZID:America/Chicago
BEGIN:STANDARD
TZNAME:CST
DTSTART:20141102T020000
TZOFFSETFROM:-0500
TZOFFSETTO:-0600
RDATE:20151101T020000
RDATE:20161106T020000
END:STANDARD
BEGIN:DAYLIGHT
TZNAME:CDT
DTSTART:20150308T020000
TZOFFSETFROM:-0600
TZOFFSETTO:-0500
RDATE:20160313T020000
RDATE:20170312T020000
END:DAYLIGHT
END:VTIMEZONE
BEGIN:VEVENT
UID:473aa6c1-07af-4997-9da1-667baaea7393
DTSTAMP:20260424T044701Z
DESCRIPTION:CASA Volunteer Pre-Service Training Late Fall Session\, October
  19 through November 20. Pre-Service Training requires 3 hours of online w
 ork and 3 hours of in-person class each week for five weeks. The in-person
  class is offered twice a week: Wednesday afternoon or Thursday evening.
DTSTART;TZID=America/Chicago:20151029T173000
DTEND;TZID=America/Chicago:20151029T203000
LOCATION:CASA Training Center\, 2412 St. Mary's Avenue
SUMMARY:Douglas County CASA Volunteer Pre-Service Training Early Fall Sessi
 on
END:VEVENT
END:VCALENDAR
