BEGIN:VCALENDAR
VERSION:2.0
PRODID:-//www.nebraskacasa.org//NONSGML kigkonsult.se iCalcreator 2.30.10//
CALSCALE:GREGORIAN
METHOD:PUBLISH
UID:0c54648b-7c5c-40ff-a69a-59b75262950a
X-WR-CALDESC:CASA Volunteer Pre-Service Training Late Fall Session\, Octobe
 r 19 through November 20. Pre-Service Training requires 3 hours of online 
 work and 3 hours of in-person class each week for five weeks. The in-perso
 n class is offered twice a week: Wednesday afternoon or Thursday evening.
X-WR-RELCALID:8bf28edb4f3791778e53be3c1bffd300
X-WR-TIMEZONE:America/Chicago
BEGIN:VTIMEZONE
TZID:America/Chicago
BEGIN:STANDARD
TZNAME:CST
DTSTART:20151101T020000
TZOFFSETFROM:-0500
TZOFFSETTO:-0600
RDATE:20161106T020000
END:STANDARD
BEGIN:DAYLIGHT
TZNAME:CDT
DTSTART:20150308T020000
TZOFFSETFROM:-0600
TZOFFSETTO:-0500
RDATE:20160313T020000
RDATE:20170312T020000
END:DAYLIGHT
END:VTIMEZONE
BEGIN:VEVENT
UID:a461029d-01f5-4a5f-b6fd-e91318e4d149
DTSTAMP:20260424T031931Z
DESCRIPTION:CASA Volunteer Pre-Service Training Late Fall Session\, October
  19 through November 20. Pre-Service Training requires 3 hours of online w
 ork and 3 hours of in-person class each week for five weeks. The in-person
  class is offered twice a week: Wednesday afternoon or Thursday evening.
DTSTART;TZID=America/Chicago:20151104T130000
DTEND;TZID=America/Chicago:20151104T160000
LOCATION:CASA Training Center\, 2412 St. Mary's Avenue
SUMMARY:Douglas County CASA Volunteer Pre-Service Training Early Fall Sessi
 on
END:VEVENT
END:VCALENDAR
