BEGIN:VCALENDAR
VERSION:2.0
PRODID:-//www.nebraskacasa.org//NONSGML kigkonsult.se iCalcreator 2.30.10//
CALSCALE:GREGORIAN
METHOD:PUBLISH
UID:6a73a96b-26a5-46a8-aa5c-349cb2e7319c
X-WR-CALDESC:Join Heartland CASA for our 4th Annual Design and Desserts. En
 joy a night of fashion and delectable desserts while helping provide a voi
 ce for children of abuse and neglect. Tickets are $30 a person and will be
  available October 1st.
X-WR-RELCALID:ddc53d7957ecbcb31f0485b0e9e594bc
X-WR-TIMEZONE:America/Chicago
BEGIN:VTIMEZONE
TZID:America/Chicago
BEGIN:STANDARD
TZNAME:CST
DTSTART:20151101T020000
TZOFFSETFROM:-0500
TZOFFSETTO:-0600
RDATE:20161106T020000
END:STANDARD
BEGIN:DAYLIGHT
TZNAME:CDT
DTSTART:20150308T020000
TZOFFSETFROM:-0600
TZOFFSETTO:-0500
RDATE:20160313T020000
RDATE:20170312T020000
END:DAYLIGHT
END:VTIMEZONE
BEGIN:VEVENT
UID:29c701c6-9303-4b0b-9996-37a7754f7aae
DTSTAMP:20260424T032049Z
DESCRIPTION:Join Heartland CASA for our 4th Annual Design and Desserts. Enj
 oy a night of fashion and delectable desserts while helping provide a voic
 e for children of abuse and neglect. Tickets are $30 a person and will be 
 available October 1st.
DTSTART;TZID=America/Chicago:20151112T190000
DTEND;TZID=America/Chicago:20151112T210000
LOCATION:Riverside Golf Club 2820 Riverside Dr\, Grand Island\, Nebraska 68
 801
SUMMARY:Heartland CASA Designs and Desserts
END:VEVENT
END:VCALENDAR
