BEGIN:VCALENDAR
VERSION:2.0
PRODID:-//www.nebraskacasa.org//NONSGML kigkonsult.se iCalcreator 2.30.10//
CALSCALE:GREGORIAN
METHOD:PUBLISH
UID:d2fba22a-ef7e-4ad1-a29f-7c71dc1655ec
X-WR-CALDESC:Are you interested in learning more about CASA for Douglas Cou
 nty and becoming an advocate for kids in foster care? Please join us for a
  CASA Information Session. Sessions are held on the second Tuesday of each
  month at noon and 5:30 PM and last about an hour. We look forward to talk
 ing with you!
X-WR-RELCALID:db4d2db0215d19bef2c9a511816d1bfc
X-WR-TIMEZONE:America/Chicago
BEGIN:VTIMEZONE
TZID:America/Chicago
BEGIN:STANDARD
TZNAME:CST
DTSTART:20151101T020000
TZOFFSETFROM:-0500
TZOFFSETTO:-0600
RDATE:20161106T020000
END:STANDARD
BEGIN:DAYLIGHT
TZNAME:CDT
DTSTART:20150308T020000
TZOFFSETFROM:-0600
TZOFFSETTO:-0500
RDATE:20160313T020000
RDATE:20170312T020000
END:DAYLIGHT
END:VTIMEZONE
BEGIN:VEVENT
UID:2906f1fc-3ee4-4a5f-9672-be3cd6028454
DTSTAMP:20260424T143142Z
DESCRIPTION:Are you interested in learning more about CASA for Douglas Coun
 ty and becoming an advocate for kids in foster care? Please join us for a 
 CASA Information Session. Sessions are held on the second Tuesday of each 
 month at noon and 5:30 PM and last about an hour. We look forward to talki
 ng with you!
DTSTART;TZID=America/Chicago:20151208T173000
DTEND;TZID=America/Chicago:20151208T183000
LOCATION:CASA For Douglas County\, 2412 St. Mary’s Ave. Omaha \, NE 68105
SUMMARY:Douglas County CASA Informational Meeting
END:VEVENT
END:VCALENDAR
