BEGIN:VCALENDAR
VERSION:2.0
PRODID:-//www.nebraskacasa.org//NONSGML kigkonsult.se iCalcreator 2.30.10//
CALSCALE:GREGORIAN
METHOD:PUBLISH
UID:a63111b7-5f65-4631-9ff5-59ac0121eb0b
X-WR-CALDESC:This training is designed for CASA staff and experienced volun
 teers to learn the knowledge and skills necessary to provide new volunteer
  training.  This is a full two days of training.  The first 1.5 days will 
 focus on the learning components of National CASA Association's new volunt
 eer curriculum.  The afternoon of day 2 will provide the resources to hold
  Fostering Futures training at your local program for staff who have atten
 ding Fostering Futures training previously. \nParticipants will be require
 d to complete 2 - 3 hours of on-line learning prior to attending training.
X-WR-RELCALID:7782ed6f3725fed98c72db69f79c0da0
X-WR-TIMEZONE:America/Chicago
BEGIN:VTIMEZONE
TZID:America/Chicago
BEGIN:STANDARD
TZNAME:CST
DTSTART:20151101T020000
TZOFFSETFROM:-0500
TZOFFSETTO:-0600
RDATE:20161106T020000
END:STANDARD
BEGIN:DAYLIGHT
TZNAME:CDT
DTSTART:20150308T020000
TZOFFSETFROM:-0600
TZOFFSETTO:-0500
RDATE:20160313T020000
RDATE:20170312T020000
END:DAYLIGHT
END:VTIMEZONE
BEGIN:VEVENT
UID:e9953fd1-148e-4a50-b673-824ff1cb46d2
DTSTAMP:20260424T015833Z
DESCRIPTION:This training is designed for CASA staff and experienced volunt
 eers to learn the knowledge and skills necessary to provide new volunteer 
 training.  This is a full two days of training.  The first 1.5 days will f
 ocus on the learning components of National CASA Association's new volunte
 er curriculum.  The afternoon of day 2 will provide the resources to hold 
 Fostering Futures training at your local program for staff who have attend
 ing Fostering Futures training previously. \nParticipants will be required
  to complete 2 - 3 hours of on-line learning prior to attending training.
DTSTART;TZID=America/Chicago:20151210T083000
DTEND;TZID=America/Chicago:20151211T170000
LOCATION:CASA for Douglas County\, 2412 St. Mary's Ave.\, Lincoln
SUMMARY:Facilitator Training
END:VEVENT
END:VCALENDAR
