BEGIN:VCALENDAR
VERSION:2.0
PRODID:-//www.nebraskacasa.org//NONSGML kigkonsult.se iCalcreator 2.30.10//
CALSCALE:GREGORIAN
METHOD:PUBLISH
UID:ece40c11-94ff-48a0-a7b1-e50f3265006f
X-WR-CALDESC:Inequality - How it develops\, why we hang on to it\, \nwhat w
 e can do to change it\n\nPersonal Experience of Discrimination\n\nJudges E
 xpectations of CASA Volunteers\n
X-WR-RELCALID:82ccfb63d006379c2acf8b7052ba5979
X-WR-TIMEZONE:America/Chicago
BEGIN:VTIMEZONE
TZID:America/Chicago
BEGIN:STANDARD
TZNAME:CST
DTSTART:20151101T020000
TZOFFSETFROM:-0500
TZOFFSETTO:-0600
RDATE:20161106T020000
END:STANDARD
BEGIN:DAYLIGHT
TZNAME:CDT
DTSTART:20150308T020000
TZOFFSETFROM:-0600
TZOFFSETTO:-0500
RDATE:20160313T020000
RDATE:20170312T020000
END:DAYLIGHT
END:VTIMEZONE
BEGIN:VEVENT
UID:6518db79-4bd8-47ee-8350-86b3933d8e24
DTSTAMP:20260424T005753Z
DESCRIPTION:Inequality - How it develops\, why we hang on to it\, \nwhat we
  can do to change it\n\nPersonal Experience of Discrimination\n\nJudges Ex
 pectations of CASA Volunteers\n
DTSTART;TZID=America/Chicago:20160116T083000
DTEND;TZID=America/Chicago:20160116T143000
LOCATION:Lexington NE
SUMMARY:Lexington Volunteer Training
END:VEVENT
END:VCALENDAR
