BEGIN:VCALENDAR
VERSION:2.0
PRODID:-//www.nebraskacasa.org//NONSGML kigkonsult.se iCalcreator 2.30.10//
CALSCALE:GREGORIAN
METHOD:PUBLISH
UID:74248280-5bba-4e43-b4ce-5b0c5edf83b5
X-WR-CALDESC:
X-WR-RELCALID:30753cd28b6c87dc842dab48f305857d
X-WR-TIMEZONE:America/Chicago
BEGIN:VTIMEZONE
TZID:America/Chicago
BEGIN:STANDARD
TZNAME:CST
DTSTART:20151101T020000
TZOFFSETFROM:-0500
TZOFFSETTO:-0600
RDATE:20161106T020000
END:STANDARD
BEGIN:DAYLIGHT
TZNAME:CDT
DTSTART:20150308T020000
TZOFFSETFROM:-0600
TZOFFSETTO:-0500
RDATE:20160313T020000
RDATE:20170312T020000
END:DAYLIGHT
END:VTIMEZONE
BEGIN:VEVENT
UID:b50d4581-9e40-4d85-a0c9-2c99bee1c971
DTSTAMP:20260424T005246Z
DESCRIPTION:
DTSTART;TZID=America/Chicago:20160116T090000
DTEND;TZID=America/Chicago:20160116T150000
LOCATION:Seward Memorial Library\, 233 S. 5 St.
SUMMARY:Seward Volunteer Training
END:VEVENT
END:VCALENDAR
