BEGIN:VCALENDAR
VERSION:2.0
PRODID:-//www.nebraskacasa.org//NONSGML kigkonsult.se iCalcreator 2.30.10//
CALSCALE:GREGORIAN
METHOD:PUBLISH
UID:41210ac8-f3ef-4bc9-8396-3153974869fd
X-WR-CALDESC:\nCome and get some of your ongoing training out of the way fo
 r the year. Feel free to join us for the whole training or the parts that 
 your schedule allows. Meet the new director\, Jodi Sonneman. \n
X-WR-RELCALID:c460c6cf44e32a24f414ba7199404f78
X-WR-TIMEZONE:America/Chicago
BEGIN:VTIMEZONE
TZID:America/Chicago
BEGIN:STANDARD
TZNAME:CST
DTSTART:20151101T020000
TZOFFSETFROM:-0500
TZOFFSETTO:-0600
RDATE:20161106T020000
END:STANDARD
BEGIN:DAYLIGHT
TZNAME:CDT
DTSTART:20150308T020000
TZOFFSETFROM:-0600
TZOFFSETTO:-0500
RDATE:20160313T020000
RDATE:20170312T020000
END:DAYLIGHT
END:VTIMEZONE
BEGIN:VEVENT
UID:3d46e34a-06d1-4935-8524-c99d4f3188ba
DTSTAMP:20260424T004634Z
DESCRIPTION:\nCome and get some of your ongoing training out of the way for
  the year. Feel free to join us for the whole training or the parts that y
 our schedule allows. Meet the new director\, Jodi Sonneman. \n
DTSTART;TZID=America/Chicago:20160126T130000
DTEND;TZID=America/Chicago:20160126T190000
LOCATION:Wells Fargo Advisors Building\, 319 East Francis North Platte\, NE
  69101
SUMMARY:Advocate In-Service
END:VEVENT
END:VCALENDAR
