BEGIN:VCALENDAR
VERSION:2.0
PRODID:-//www.nebraskacasa.org//NONSGML kigkonsult.se iCalcreator 2.30.10//
CALSCALE:GREGORIAN
METHOD:PUBLISH
UID:be0f9026-352a-4a93-b502-3ee898c27f8b
X-WR-CALDESC:Topic: Medical services offered by Project Harmony and Childre
 n’s Hospital
X-WR-RELCALID:936fd66e704119c3f8ee5ca2019ee7ae
X-WR-TIMEZONE:America/Chicago
BEGIN:VTIMEZONE
TZID:America/Chicago
BEGIN:STANDARD
TZNAME:CST
DTSTART:20151101T020000
TZOFFSETFROM:-0500
TZOFFSETTO:-0600
RDATE:20161106T020000
END:STANDARD
BEGIN:DAYLIGHT
TZNAME:CDT
DTSTART:20150308T020000
TZOFFSETFROM:-0600
TZOFFSETTO:-0500
RDATE:20160313T020000
RDATE:20170312T020000
END:DAYLIGHT
END:VTIMEZONE
BEGIN:VEVENT
UID:150b2915-6e59-4a5e-af48-00f6773ea8cc
DTSTAMP:20260424T005002Z
DESCRIPTION:Topic: Medical services offered by Project Harmony and Children
 ’s Hospital
DTSTART;TZID=America/Chicago:20160126T120000
DTEND;TZID=America/Chicago:20160126T130000
LOCATION:CASA For Douglas County
SUMMARY:CASA Brown Bagger Monday
END:VEVENT
END:VCALENDAR
