BEGIN:VCALENDAR
VERSION:2.0
PRODID:-//www.nebraskacasa.org//NONSGML kigkonsult.se iCalcreator 2.30.10//
CALSCALE:GREGORIAN
METHOD:PUBLISH
UID:563bec3c-5902-40a6-8f59-75d65655ff40
X-WR-CALDESC:Are you interested in learning more about CASA for Douglas Cou
 nty and becoming an advocate for kids in foster care? Please join us for a
  CASA Information Session. Sessions are held on the second Tuesday of each
  month at noon and 5:30 PM and last about an hour. We look forward to talk
 ing with you!
X-WR-RELCALID:5fa90eaa11fd67595b3eca0a72a826f6
X-WR-TIMEZONE:America/Chicago
BEGIN:VTIMEZONE
TZID:America/Chicago
BEGIN:STANDARD
TZNAME:CST
DTSTART:20151101T020000
TZOFFSETFROM:-0500
TZOFFSETTO:-0600
RDATE:20161106T020000
END:STANDARD
BEGIN:DAYLIGHT
TZNAME:CDT
DTSTART:20150308T020000
TZOFFSETFROM:-0600
TZOFFSETTO:-0500
RDATE:20160313T020000
RDATE:20170312T020000
END:DAYLIGHT
END:VTIMEZONE
BEGIN:VEVENT
UID:fccc1a75-de66-40cd-9830-b5e241d9462b
DTSTAMP:20260423T234333Z
DESCRIPTION:Are you interested in learning more about CASA for Douglas Coun
 ty and becoming an advocate for kids in foster care? Please join us for a 
 CASA Information Session. Sessions are held on the second Tuesday of each 
 month at noon and 5:30 PM and last about an hour. We look forward to talki
 ng with you!
DTSTART;TZID=America/Chicago:20160209T120000
DTEND;TZID=America/Chicago:20160209T130000
LOCATION:CASA For Douglas County\, 2412 St. Mary’s Ave. Omaha \, NE 68105
SUMMARY:Douglas County CASA Informational Meeting
END:VEVENT
END:VCALENDAR
