BEGIN:VCALENDAR
VERSION:2.0
PRODID:-//www.nebraskacasa.org//NONSGML kigkonsult.se iCalcreator 2.30.10//
CALSCALE:GREGORIAN
METHOD:PUBLISH
UID:0f1ef7c0-3785-4ee5-b4fe-e727bd5a5de3
X-WR-CALDESC:
X-WR-RELCALID:2dd09049eb8bf672fd6cee576d138f1c
X-WR-TIMEZONE:America/Chicago
BEGIN:VTIMEZONE
TZID:America/Chicago
BEGIN:STANDARD
TZNAME:CST
DTSTART:20151101T020000
TZOFFSETFROM:-0500
TZOFFSETTO:-0600
RDATE:20161106T020000
END:STANDARD
BEGIN:DAYLIGHT
TZNAME:CDT
DTSTART:20150308T020000
TZOFFSETFROM:-0600
TZOFFSETTO:-0500
RDATE:20160313T020000
RDATE:20170312T020000
END:DAYLIGHT
END:VTIMEZONE
BEGIN:VEVENT
UID:2f1918ae-a2af-4973-b873-863f2dcc9603
DTSTAMP:20260423T223519Z
DESCRIPTION:
DTSTART;TZID=America/Chicago:20160305T180000
DTEND;TZID=America/Chicago:20160305T210000
LOCATION:
SUMMARY:CASAblanca Gala
END:VEVENT
END:VCALENDAR
