BEGIN:VCALENDAR
VERSION:2.0
PRODID:-//www.nebraskacasa.org//NONSGML kigkonsult.se iCalcreator 2.30.10//
CALSCALE:GREGORIAN
METHOD:PUBLISH
UID:da01f6cd-1f18-4cd7-97d9-6956d72b33fc
X-WR-CALDESC:**Special personally guided tour of a selection of cars in the
  collection at 1:00 PM - $75 per person and is limited to 20 people - Make
  your reservation now!\nJoin us for an opportunity to view a unique car co
 llection while supporting Court Appointed Special Advocates (CASA) for Lan
 caster County. There are new displays and new inventory to see!\n$25 per p
 erson with advance reservations or $35 per person day of the event
X-WR-RELCALID:5af15bd06e0384f504792ff781084659
X-WR-TIMEZONE:America/Chicago
BEGIN:VTIMEZONE
TZID:America/Chicago
BEGIN:STANDARD
TZNAME:CST
DTSTART:20151101T020000
TZOFFSETFROM:-0500
TZOFFSETTO:-0600
RDATE:20161106T020000
END:STANDARD
BEGIN:DAYLIGHT
TZNAME:CDT
DTSTART:20160313T020000
TZOFFSETFROM:-0600
TZOFFSETTO:-0500
RDATE:20170312T020000
END:DAYLIGHT
END:VTIMEZONE
BEGIN:VEVENT
UID:e7229e33-b05f-4139-a846-8bd735217123
DTSTAMP:20260423T223449Z
DESCRIPTION:**Special personally guided tour of a selection of cars in the 
 collection at 1:00 PM - $75 per person and is limited to 20 people - Make 
 your reservation now!\nJoin us for an opportunity to view a unique car col
 lection while supporting Court Appointed Special Advocates (CASA) for Lanc
 aster County. There are new displays and new inventory to see!\n$25 per pe
 rson with advance reservations or $35 per person day of the event
DTSTART;TZID=America/Chicago:20160319T130000
DTEND;TZID=America/Chicago:20160319T170000
LOCATION:Kuck Motorsports Museum\, 2251 Humphrey Avenue \, Lincoln\, Nebras
 ka
SUMMARY:CARS for CASA
END:VEVENT
END:VCALENDAR
