BEGIN:VCALENDAR
VERSION:2.0
PRODID:-//www.nebraskacasa.org//NONSGML kigkonsult.se iCalcreator 2.30.10//
CALSCALE:GREGORIAN
METHOD:PUBLISH
UID:1b698376-12fe-42c9-8c46-4904d83c8a10
X-WR-CALDESC:This training provides skills and knowledge to volunteers work
 ing with youth 14 to 21 years of age.  Ten hours of continuing education f
 or CASA Volunteers.
X-WR-RELCALID:0e47af5aba86c68016a6205535019fe1
X-WR-TIMEZONE:America/Chicago
BEGIN:VTIMEZONE
TZID:America/Chicago
BEGIN:STANDARD
TZNAME:CST
DTSTART:20151101T020000
TZOFFSETFROM:-0500
TZOFFSETTO:-0600
RDATE:20161106T020000
END:STANDARD
BEGIN:DAYLIGHT
TZNAME:CDT
DTSTART:20160313T020000
TZOFFSETFROM:-0600
TZOFFSETTO:-0500
RDATE:20170312T020000
END:DAYLIGHT
END:VTIMEZONE
BEGIN:VEVENT
UID:28284425-7655-4351-9ce3-1f7a8903180c
DTSTAMP:20260423T223024Z
DESCRIPTION:This training provides skills and knowledge to volunteers worki
 ng with youth 14 to 21 years of age.  Ten hours of continuing education fo
 r CASA Volunteers.
DTSTART;TZID=America/Chicago:20160319T090000
DTEND;TZID=America/Chicago:20160319T163000
LOCATION:CASA for Douglas County\, 2412 St. Mary's Ave.\, Omaha
SUMMARY:Fostering Futures
END:VEVENT
END:VCALENDAR
